BEGIN:VCALENDAR
VERSION:2.0
PRODID:-//Pitch Pact - ECPv6.2.9//NONSGML v1.0//EN
CALSCALE:GREGORIAN
METHOD:PUBLISH
X-WR-CALNAME:Pitch Pact
X-ORIGINAL-URL:https://www.pitchpact.com
X-WR-CALDESC:Events for Pitch Pact
REFRESH-INTERVAL;VALUE=DURATION:PT1H
X-Robots-Tag:noindex
X-PUBLISHED-TTL:PT1H
BEGIN:VTIMEZONE
TZID:UTC
BEGIN:STANDARD
TZOFFSETFROM:+0000
TZOFFSETTO:+0000
TZNAME:UTC
DTSTART:20240101T000000
END:STANDARD
END:VTIMEZONE
BEGIN:VEVENT
DTSTART;TZID=UTC:20240207T180000
DTEND;TZID=UTC:20240207T183000
DTSTAMP:20260426T040140
CREATED:20240117T210522Z
LAST-MODIFIED:20240117T210522Z
UID:8910-1707328800-1707330600@www.pitchpact.com
SUMMARY:Pitch Pact Branding Tool Webinar 2024
DESCRIPTION:
URL:https://www.pitchpact.com/event/pitch-pact-branding-tool-webinar-2024/
LOCATION:Virtual Conference
ATTACH;FMTTYPE=image/png:https://www.pitchpact.com/wp-content/uploads/2024/01/Pitch-Pact-2024-Event-1.png
END:VEVENT
END:VCALENDAR